BEGIN:VCALENDAR
VERSION:2.0
PRODID:-//Martin Ruppe - ECPv6.15.20//NONSGML v1.0//EN
CALSCALE:GREGORIAN
METHOD:PUBLISH
X-ORIGINAL-URL:https://sandofstone.com
X-WR-CALDESC:Events for Martin Ruppe
REFRESH-INTERVAL;VALUE=DURATION:PT1H
X-Robots-Tag:noindex
X-PUBLISHED-TTL:PT1H
BEGIN:VTIMEZONE
TZID:Asia/Dubai
BEGIN:STANDARD
TZOFFSETFROM:+0400
TZOFFSETTO:+0400
TZNAME:+04
DTSTART:20230101T000000
END:STANDARD
END:VTIMEZONE
BEGIN:VEVENT
DTSTART;VALUE=DATE:20241126
DTEND;VALUE=DATE:20241129
DTSTAMP:20260424T121003
CREATED:20241030T083116Z
LAST-MODIFIED:20241030T085157Z
UID:21-1732579200-1732838399@sandofstone.com
SUMMARY:FutureFM
DESCRIPTION:
URL:https://sandofstone.com/event/futurefm/
LOCATION:Dubai World Trade Centre\, Sheikh Zayed Rd\, Dubai\, United Arab Emirates
CATEGORIES:Education,Event
END:VEVENT
END:VCALENDAR